BEGIN:VCALENDAR
VERSION:2.0
PRODID:icalendar-ruby
CALSCALE:GREGORIAN
METHOD:PUBLISH
BEGIN:VEVENT
DTSTAMP:20260421T162620Z
UID:5-630664@jcslchurch.org
DTSTART:20260705T170000Z
DTEND:20260705T183000Z
CLASS:PUBLIC
CREATED:20260421T084839
DESCRIPTION:We are convinced it is so important to seek and worship God tog
 ether and continue to support one another. Hope you'll join us on Sunday a
 t 10:00 am\, if not please join on line. On YouTube look for us at: https:
 //www.youtube.com/channel/UC1doMnSOsx2aaIiMsxjE1NA a few minutes ahead of 
 time. \nWhen you see our logo\, you'll know you're in the right location!
  \nWe love that God has called us to partner with families in raising up 
 their children to know\, hear and obey His voice and understand their part
  in God's Big Story. To that end\, Salt &amp\; Light Kids Ministry takes p
 lace during the Sunday Service for the following age groups on location \
 n- Nursery (Birth- 2 yrs) - Available at 9:50a \n- Pre-K &amp\; Kindergar
 ten - Dismissed at the start of Family Business\n- Elementary (1st-5th gra
 de) - Dismissed at the start of Family Business \n 
LAST-MODIFIED:20260421T084839
LOCATION:We are meeting in-person and also streaming live on YouTube. 
SUMMARY:Sunday Church Service  
URL;VALUE=URI:https://www.jcslchurch.org/events/sunday-church-service/2026-
 07-05
ATTACH;FILENAME=welcome slide You Tube.jpg;FMTTYPE=image/jpeg:https://dq5pw
 pg1q8ru0.cloudfront.net/2021/04/07/10/58/40/e124a491-9eb1-4e9b-b729-2afe5e
 1c92fc/welcome%20slide%20You%20Tube.jpg
ATTACH;FILENAME=IMG_20190915_121258.jpg;FMTTYPE=image/jpeg:https://dq5pwpg1
 q8ru0.cloudfront.net/2022/01/12/07/59/52/078e8337-a3a5-44c5-822b-6e6f1af95
 729/IMG_20190915_121258.jpg
ATTACH;FILENAME=Welcome.jpg;FMTTYPE=image/jpeg:https://dq5pwpg1q8ru0.cloudf
 ront.net/2022/01/12/07/59/52/ec78c27d-be9a-4017-a346-5c8e43d5982e/Welcome.
 jpg
ATTACH;FILENAME=PXL_20211225_031443560.jpg;FMTTYPE=image/jpeg:https://dq5pw
 pg1q8ru0.cloudfront.net/2022/01/13/16/16/46/393fef35-e9ca-46aa-9f1b-4c7033
 656ae4/PXL_20211225_031443560.jpg
ATTACH;FILENAME=PXL_20210905_183735596.jpg;FMTTYPE=image/jpeg:https://dq5pw
 pg1q8ru0.cloudfront.net/2022/01/13/16/18/19/18b1200f-f542-49fb-8bb2-aabbfa
 2b4848/PXL_20210905_183735596.jpg
ATTACH;FILENAME=IMG_1312.jpg;FMTTYPE=image/jpeg:https://dq5pwpg1q8ru0.cloud
 front.net/2022/01/13/16/18/19/a2ccd79f-0a4a-4f1c-b52b-21c874b64c90/IMG_131
 2.jpg
ATTACH;FILENAME=PXL_20210613_173616833.jpg;FMTTYPE=image/jpeg:https://dq5pw
 pg1q8ru0.cloudfront.net/2022/01/13/16/29/14/885b06f6-3f2e-407c-9c6d-d0cf64
 19faaf/PXL_20210613_173616833.jpg
ATTACH;FILENAME=IMG_2203.PNG;FMTTYPE=image/png:https://dq5pwpg1q8ru0.cloudf
 ront.net/2022/01/13/16/31/12/dca2857a-f2ff-47f0-8491-c45888f4a779/IMG_2203
 .PNG
ATTACH;FILENAME=pray.PNG;FMTTYPE=image/png:https://dq5pwpg1q8ru0.cloudfront
 .net/2022/01/13/16/31/12/d03d66fb-b443-49e4-a9cf-3ac1ec29fd2f/pray.PNG
END:VEVENT
END:VCALENDAR
