BEGIN:VCALENDAR
VERSION:2.0
PRODID:icalendar-ruby
CALSCALE:GREGORIAN
METHOD:PUBLISH
BEGIN:VEVENT
DTSTAMP:20260422T094646Z
UID:241-604093@jcslchurch.org
DTSTART:20260426T184500Z
DTEND:20260426T200000Z
CLASS:PUBLIC
CREATED:20260408T104210
DESCRIPTION:
LAST-MODIFIED:20260408T104210
LOCATION:@ Church 
SUMMARY:All Church Potluck
URL;VALUE=URI:https://www.jcslchurch.org/events/all-church-potluck/2026-04-
 26
ATTACH;FILENAME=pot.jpg;FMTTYPE=image/jpeg:https://dq5pwpg1q8ru0.cloudfront
 .net/2026/04/08/17/42/10/8daf7f3e-6f3b-4575-983e-ad711f9ef2d6/pot.jpg
END:VEVENT
END:VCALENDAR
